Package: statTarget Version: 1.22.0 Command: rm -rf statTarget.buildbin-libdir && mkdir statTarget.buildbin-libdir && C:\Users\biocbuild\bbs-3.13-bioc\R\bin\R.exe CMD INSTALL --merge-multiarch --build --library=statTarget.buildbin-libdir statTarget_1.22.0.tar.gz StartedAt: 2021-10-15 12:01:38 -0400 (Fri, 15 Oct 2021) EndedAt: 2021-10-15 12:03:02 -0400 (Fri, 15 Oct 2021) EllapsedTime: 84.2 seconds RetCode: 0 Status: OK PackageFile: statTarget_1.22.0.zip PackageFileSize: 2.092 MiB