Package: structToolbox Version: 1.4.3 Command: rm -rf structToolbox.buildbin-libdir && mkdir structToolbox.buildbin-libdir && C:\Users\biocbuild\bbs-3.13-bioc\R\bin\R.exe CMD INSTALL --merge-multiarch --build --library=structToolbox.buildbin-libdir structToolbox_1.4.3.tar.gz StartedAt: 2021-10-15 12:02:44 -0400 (Fri, 15 Oct 2021) EndedAt: 2021-10-15 12:04:17 -0400 (Fri, 15 Oct 2021) EllapsedTime: 92.5 seconds RetCode: 0 Status: OK PackageFile: structToolbox_1.4.3.zip PackageFileSize: 4.249 MiB