Package: survcomp Version: 1.42.0 Command: rm -rf survcomp.buildbin-libdir && mkdir survcomp.buildbin-libdir && /Users/biocbuild/BBS/utils/build-universal.sh survcomp_1.42.0.tar.gz /Library/Frameworks/R.framework/Versions/Current/Resources/bin/R survcomp.buildbin-libdir StartedAt: 2021-10-15 04:09:51 -0400 (Fri, 15 Oct 2021) EndedAt: 2021-10-15 04:11:01 -0400 (Fri, 15 Oct 2021) EllapsedTime: 70.3 seconds RetCode: 0 Status: OK PackageFile: survcomp_1.42.0.tgz PackageFileSize: 848 KiB