Package: survcomp Version: 1.42.0 Command: /home/biocbuild/bbs-3.13-bioc/R/bin/R CMD check --install=check:survcomp.install-out.txt --library=/home/biocbuild/bbs-3.13-bioc/R/library --no-vignettes --timings survcomp_1.42.0.tar.gz StartedAt: 2021-10-14 11:48:16 -0400 (Thu, 14 Oct 2021) EndedAt: 2021-10-14 11:49:04 -0400 (Thu, 14 Oct 2021) EllapsedTime: 47.3 seconds RetCode: 0 Status: WARNINGS CheckDir: survcomp.Rcheck Warnings: 1