Package: survcomp Version: 1.42.0 Command: C:\cygwin\bin\curl.exe -O http://155.52.207.165/BBS/3.13/bioc/src/contrib/survcomp_1.42.0.tar.gz && rm -rf survcomp.buildbin-libdir && mkdir survcomp.buildbin-libdir && C:\Users\biocbuild\bbs-3.13-bioc\R\bin\R.exe CMD INSTALL --merge-multiarch --build --library=survcomp.buildbin-libdir survcomp_1.42.0.tar.gz && C:\Users\biocbuild\bbs-3.13-bioc\R\bin\R.exe CMD INSTALL survcomp_1.42.0.zip && rm survcomp_1.42.0.tar.gz survcomp_1.42.0.zip StartedAt: 2021-10-14 11:20:02 -0400 (Thu, 14 Oct 2021) EndedAt: 2021-10-14 11:21:04 -0400 (Thu, 14 Oct 2021) EllapsedTime: 62.2 seconds RetCode: 0 Status: OK