git_url: https://git.bioconductor.org/packages/sva git_branch: RELEASE_3_13 git_last_commit: 3165ab9 git_last_commit_date: 2021-05-19 11:50:23 -0400 (Wed, 19 May 2021) Package: sva Version: 3.40.0 Maintainer: Jeffrey T. Leek , John D. Storey MaintainerEmail: jstorey at princeton.edu>, W. Evan Johnson