Package: sva Version: 3.40.0 Command: rm -rf sva.buildbin-libdir && mkdir sva.buildbin-libdir && /Users/biocbuild/BBS/utils/build-universal.sh sva_3.40.0.tar.gz /Library/Frameworks/R.framework/Versions/Current/Resources/bin/R sva.buildbin-libdir StartedAt: 2021-10-15 04:10:02 -0400 (Fri, 15 Oct 2021) EndedAt: 2021-10-15 04:11:12 -0400 (Fri, 15 Oct 2021) EllapsedTime: 70.0 seconds RetCode: 0 Status: OK PackageFile: sva_3.40.0.tgz PackageFileSize: 515.2 KiB