Package: sva Version: 3.40.0 Command: /home/biocbuild/bbs-3.13-bioc/R/bin/R CMD check --install=check:sva.install-out.txt --library=/home/biocbuild/bbs-3.13-bioc/R/library --no-vignettes --timings sva_3.40.0.tar.gz StartedAt: 2021-10-14 11:48:40 -0400 (Thu, 14 Oct 2021) EndedAt: 2021-10-14 11:51:56 -0400 (Thu, 14 Oct 2021) EllapsedTime: 196.5 seconds RetCode: 0 Status: OK CheckDir: sva.Rcheck Warnings: 0