Package: sva Version: 3.40.0 Command: chmod a+r sva -R && C:\Users\biocbuild\bbs-3.13-bioc\R\bin\R.exe CMD build --keep-empty-dirs --no-resave-data sva StartedAt: 2021-10-14 18:38:44 -0400 (Thu, 14 Oct 2021) EndedAt: 2021-10-14 18:40:13 -0400 (Thu, 14 Oct 2021) EllapsedTime: 88.6 seconds RetCode: 0 Status: OK PackageFile: sva_3.40.0.tar.gz PackageFileSize: 430.9 KiB