Package: sva Version: 3.40.0 Command: C:\cygwin\bin\curl.exe -O http://155.52.207.165/BBS/3.13/bioc/src/contrib/sva_3.40.0.tar.gz && rm -rf sva.buildbin-libdir && mkdir sva.buildbin-libdir && C:\Users\biocbuild\bbs-3.13-bioc\R\bin\R.exe CMD INSTALL --merge-multiarch --build --library=sva.buildbin-libdir sva_3.40.0.tar.gz && C:\Users\biocbuild\bbs-3.13-bioc\R\bin\R.exe CMD INSTALL sva_3.40.0.zip && rm sva_3.40.0.tar.gz sva_3.40.0.zip StartedAt: 2021-10-14 09:18:00 -0400 (Thu, 14 Oct 2021) EndedAt: 2021-10-14 09:18:41 -0400 (Thu, 14 Oct 2021) EllapsedTime: 40.9 seconds RetCode: 0 Status: OK