Package: switchde Version: 1.18.0 Command: /Library/Frameworks/R.framework/Versions/Current/Resources/bin/R CMD build --keep-empty-dirs --no-resave-data switchde StartedAt: 2021-10-14 15:14:45 -0400 (Thu, 14 Oct 2021) EndedAt: 2021-10-14 15:15:26 -0400 (Thu, 14 Oct 2021) EllapsedTime: 40.7 seconds RetCode: 0 Status: OK PackageFile: switchde_1.18.0.tar.gz PackageFileSize: 962.8 KiB