Package: switchde Version: 1.18.0 Command: /home/biocbuild/bbs-3.13-bioc/R/bin/R CMD check --install=check:switchde.install-out.txt --library=/home/biocbuild/bbs-3.13-bioc/R/library --no-vignettes --timings switchde_1.18.0.tar.gz StartedAt: 2021-10-14 11:49:04 -0400 (Thu, 14 Oct 2021) EndedAt: 2021-10-14 11:51:23 -0400 (Thu, 14 Oct 2021) EllapsedTime: 138.8 seconds RetCode: 0 Status: OK CheckDir: switchde.Rcheck Warnings: 0