Package: synlet Version: 1.22.0 Command: C:\cygwin\bin\curl.exe -O http://155.52.207.165/BBS/3.13/bioc/src/contrib/synlet_1.22.0.tar.gz && rm -rf synlet.buildbin-libdir && mkdir synlet.buildbin-libdir && C:\Users\biocbuild\bbs-3.13-bioc\R\bin\R.exe CMD INSTALL --merge-multiarch --build --library=synlet.buildbin-libdir synlet_1.22.0.tar.gz && C:\Users\biocbuild\bbs-3.13-bioc\R\bin\R.exe CMD INSTALL synlet_1.22.0.zip && rm synlet_1.22.0.tar.gz synlet_1.22.0.zip StartedAt: 2021-10-14 09:34:39 -0400 (Thu, 14 Oct 2021) EndedAt: 2021-10-14 09:35:17 -0400 (Thu, 14 Oct 2021) EllapsedTime: 38.3 seconds RetCode: 0 Status: OK