git_url: https://git.bioconductor.org/packages/systemPipeR git_branch: RELEASE_3_13 git_last_commit: 08593cd git_last_commit_date: 2021-06-26 12:23:40 -0400 (Sat, 26 Jun 2021) Package: systemPipeR Version: 1.26.3 Maintainer: Thomas Girke MaintainerEmail: thomas.girke at ucr.edu