Package: systemPipeR Version: 1.26.3 Command: rm -rf systemPipeR.buildbin-libdir && mkdir systemPipeR.buildbin-libdir && /Users/biocbuild/BBS/utils/build-universal.sh systemPipeR_1.26.3.tar.gz /Library/Frameworks/R.framework/Versions/Current/Resources/bin/R systemPipeR.buildbin-libdir StartedAt: 2021-10-15 04:11:01 -0400 (Fri, 15 Oct 2021) EndedAt: 2021-10-15 04:12:22 -0400 (Fri, 15 Oct 2021) EllapsedTime: 81.2 seconds RetCode: 0 Status: OK PackageFile: systemPipeR_1.26.3.tgz PackageFileSize: 3.95 MiB