Package: systemPipeR Version: 1.26.3 Command: /Library/Frameworks/R.framework/Versions/Current/Resources/bin/R CMD build --keep-empty-dirs --no-resave-data systemPipeR StartedAt: 2021-10-14 15:15:32 -0400 (Thu, 14 Oct 2021) EndedAt: 2021-10-14 15:17:41 -0400 (Thu, 14 Oct 2021) EllapsedTime: 129.0 seconds RetCode: 0 Status: OK PackageFile: systemPipeR_1.26.3.tar.gz PackageFileSize: 3.95 MiB