Package: systemPipeR Version: 1.26.3 Command: chmod a+r systemPipeR -R && C:\Users\biocbuild\bbs-3.13-bioc\R\bin\R.exe CMD build --keep-empty-dirs --no-resave-data systemPipeR StartedAt: 2021-10-14 18:40:48 -0400 (Thu, 14 Oct 2021) EndedAt: 2021-10-14 18:44:51 -0400 (Thu, 14 Oct 2021) EllapsedTime: 243.1 seconds RetCode: 0 Status: OK PackageFile: systemPipeR_1.26.3.tar.gz PackageFileSize: 3.812 MiB