Package: systemPipeR Version: 1.26.3 Command: C:\Users\biocbuild\bbs-3.13-bioc\R\bin\R.exe CMD check --force-multiarch --install=check:systemPipeR.install-out.txt --library=C:\Users\biocbuild\bbs-3.13-bioc\R\library --no-vignettes --timings systemPipeR_1.26.3.tar.gz StartedAt: 2021-10-15 06:25:33 -0400 (Fri, 15 Oct 2021) EndedAt: 2021-10-15 06:37:35 -0400 (Fri, 15 Oct 2021) EllapsedTime: 721.8 seconds RetCode: 0 Status: OK CheckDir: systemPipeR.Rcheck Warnings: 0