Package: tRNA Version: 1.10.0 Command: /home/biocbuild/bbs-3.13-bioc/R/bin/R CMD INSTALL tRNA StartedAt: 2021-10-14 06:10:08 -0400 (Thu, 14 Oct 2021) EndedAt: 2021-10-14 06:10:22 -0400 (Thu, 14 Oct 2021) EllapsedTime: 14.5 seconds RetCode: 0 Status: OK