Package: tRNAdbImport Version: 1.10.0 Command: rm -rf tRNAdbImport.buildbin-libdir && mkdir tRNAdbImport.buildbin-libdir && /Users/biocbuild/BBS/utils/build-universal.sh tRNAdbImport_1.10.0.tar.gz /Library/Frameworks/R.framework/Versions/Current/Resources/bin/R tRNAdbImport.buildbin-libdir StartedAt: 2021-10-15 04:18:01 -0400 (Fri, 15 Oct 2021) EndedAt: 2021-10-15 04:19:12 -0400 (Fri, 15 Oct 2021) EllapsedTime: 71.1 seconds RetCode: 0 Status: OK PackageFile: tRNAdbImport_1.10.0.tgz PackageFileSize: 362.6 KiB