Package: tRNAdbImport Version: 1.10.0 Command: /Library/Frameworks/R.framework/Versions/Current/Resources/bin/R CMD INSTALL tRNAdbImport StartedAt: 2021-10-14 08:55:42 -0400 (Thu, 14 Oct 2021) EndedAt: 2021-10-14 08:56:35 -0400 (Thu, 14 Oct 2021) EllapsedTime: 53.2 seconds RetCode: 0 Status: OK