git_url: https://git.bioconductor.org/packages/tRNAscanImport git_branch: RELEASE_3_13 git_last_commit: cb59bfe git_last_commit_date: 2021-05-19 12:33:50 -0400 (Wed, 19 May 2021) Package: tRNAscanImport Version: 1.12.0 Maintainer: Felix G.M. Ernst MaintainerEmail: felix.gm.ernst at outlook.com