Package: tRNAscanImport Version: 1.12.0 Command: /Library/Frameworks/R.framework/Versions/Current/Resources/bin/R CMD build --keep-empty-dirs --no-resave-data tRNAscanImport StartedAt: 2021-10-14 15:27:31 -0400 (Thu, 14 Oct 2021) EndedAt: 2021-10-14 15:29:36 -0400 (Thu, 14 Oct 2021) EllapsedTime: 125.1 seconds RetCode: 0 Status: OK PackageFile: tRNAscanImport_1.12.0.tar.gz PackageFileSize: 810.7 KiB