Package: tRNAscanImport Version: 1.12.0 Command: /Library/Frameworks/R.framework/Versions/Current/Resources/bin/R CMD INSTALL tRNAscanImport StartedAt: 2021-10-14 10:01:20 -0400 (Thu, 14 Oct 2021) EndedAt: 2021-10-14 10:02:10 -0400 (Thu, 14 Oct 2021) EllapsedTime: 49.8 seconds RetCode: 0 Status: OK