Package: tRNAscanImport Version: 1.12.0 Command: /home/biocbuild/bbs-3.13-bioc/R/bin/R CMD build --keep-empty-dirs --no-resave-data tRNAscanImport StartedAt: 2021-10-14 08:37:43 -0400 (Thu, 14 Oct 2021) EndedAt: 2021-10-14 08:39:11 -0400 (Thu, 14 Oct 2021) EllapsedTime: 88.1 seconds RetCode: 0 Status: OK PackageFile: tRNAscanImport_1.12.0.tar.gz PackageFileSize: 810.7 KiB