Package: tRNAscanImport Version: 1.12.0 Command: /home/biocbuild/bbs-3.13-bioc/R/bin/R CMD INSTALL tRNAscanImport StartedAt: 2021-10-14 06:26:01 -0400 (Thu, 14 Oct 2021) EndedAt: 2021-10-14 06:26:31 -0400 (Thu, 14 Oct 2021) EllapsedTime: 29.8 seconds RetCode: 0 Status: OK