Package: tRNAscanImport Version: 1.12.0 Command: rm -rf tRNAscanImport.buildbin-libdir && mkdir tRNAscanImport.buildbin-libdir && C:\Users\biocbuild\bbs-3.13-bioc\R\bin\R.exe CMD INSTALL --merge-multiarch --build --library=tRNAscanImport.buildbin-libdir tRNAscanImport_1.12.0.tar.gz StartedAt: 2021-10-15 12:18:01 -0400 (Fri, 15 Oct 2021) EndedAt: 2021-10-15 12:19:30 -0400 (Fri, 15 Oct 2021) EllapsedTime: 89.4 seconds RetCode: 0 Status: OK PackageFile: tRNAscanImport_1.12.0.zip PackageFileSize: 485 KiB