Package: tRNAscanImport Version: 1.12.0 Command: chmod a+r tRNAscanImport -R && C:\Users\biocbuild\bbs-3.13-bioc\R\bin\R.exe CMD build --keep-empty-dirs --no-resave-data tRNAscanImport StartedAt: 2021-10-14 18:56:47 -0400 (Thu, 14 Oct 2021) EndedAt: 2021-10-14 18:58:36 -0400 (Thu, 14 Oct 2021) EllapsedTime: 109.1 seconds RetCode: 0 Status: OK PackageFile: tRNAscanImport_1.12.0.tar.gz PackageFileSize: 434.2 KiB