Package: target Version: 1.6.0 Command: /home/biocbuild/bbs-3.13-bioc/R/bin/R CMD build --keep-empty-dirs --no-resave-data target StartedAt: 2021-10-14 08:33:08 -0400 (Thu, 14 Oct 2021) EndedAt: 2021-10-14 08:33:47 -0400 (Thu, 14 Oct 2021) EllapsedTime: 39.2 seconds RetCode: 0 Status: OK PackageFile: target_1.6.0.tar.gz PackageFileSize: 3.467 MiB