Package: target Version: 1.6.0 Command: /home/biocbuild/bbs-3.13-bioc/R/bin/R CMD INSTALL target StartedAt: 2021-10-14 06:07:28 -0400 (Thu, 14 Oct 2021) EndedAt: 2021-10-14 06:07:38 -0400 (Thu, 14 Oct 2021) EllapsedTime: 10.0 seconds RetCode: 0 Status: OK