Package: tenXplore Version: 1.14.2 Command: /Library/Frameworks/R.framework/Versions/Current/Resources/bin/R CMD build --keep-empty-dirs --no-resave-data tenXplore StartedAt: 2021-10-14 15:18:05 -0400 (Thu, 14 Oct 2021) EndedAt: 2021-10-14 15:19:27 -0400 (Thu, 14 Oct 2021) EllapsedTime: 82.0 seconds RetCode: 0 Status: OK PackageFile: tenXplore_1.14.2.tar.gz PackageFileSize: 2.445 MiB