Package: tenXplore Version: 1.14.2 Command: /home/biocbuild/bbs-3.13-bioc/R/bin/R CMD build --keep-empty-dirs --no-resave-data tenXplore StartedAt: 2021-10-14 08:34:00 -0400 (Thu, 14 Oct 2021) EndedAt: 2021-10-14 08:34:51 -0400 (Thu, 14 Oct 2021) EllapsedTime: 51.4 seconds RetCode: 0 Status: OK PackageFile: tenXplore_1.14.2.tar.gz PackageFileSize: 2.444 MiB