Package: tenXplore Version: 1.14.2 Command: /home/biocbuild/bbs-3.13-bioc/R/bin/R CMD check --install=check:tenXplore.install-out.txt --library=/home/biocbuild/bbs-3.13-bioc/R/library --no-vignettes --timings tenXplore_1.14.2.tar.gz StartedAt: 2021-10-14 11:50:36 -0400 (Thu, 14 Oct 2021) EndedAt: 2021-10-14 11:54:03 -0400 (Thu, 14 Oct 2021) EllapsedTime: 206.3 seconds RetCode: 0 Status: OK CheckDir: tenXplore.Rcheck Warnings: 0