Package: tidySingleCellExperiment Version: 1.2.1 Command: rm -rf tidySingleCellExperiment.buildbin-libdir && mkdir tidySingleCellExperiment.buildbin-libdir && /Users/biocbuild/BBS/utils/build-universal.sh tidySingleCellExperiment_1.2.1.tar.gz /Library/Frameworks/R.framework/Versions/Current/Resources/bin/R tidySingleCellExperiment.buildbin-libdir StartedAt: 2021-10-15 04:13:29 -0400 (Fri, 15 Oct 2021) EndedAt: 2021-10-15 04:14:39 -0400 (Fri, 15 Oct 2021) EllapsedTime: 69.6 seconds RetCode: 0 Status: OK PackageFile: tidySingleCellExperiment_1.2.1.tgz PackageFileSize: 1.177 MiB