Package: tidySingleCellExperiment Version: 1.2.1 Command: /Library/Frameworks/R.framework/Versions/Current/Resources/bin/R CMD build --keep-empty-dirs --no-resave-data tidySingleCellExperiment StartedAt: 2021-10-14 15:19:38 -0400 (Thu, 14 Oct 2021) EndedAt: 2021-10-14 15:20:49 -0400 (Thu, 14 Oct 2021) EllapsedTime: 70.1 seconds RetCode: 0 Status: OK PackageFile: tidySingleCellExperiment_1.2.1.tar.gz PackageFileSize: 1.086 MiB