Package: tidySingleCellExperiment Version: 1.2.1 Command: chmod a+r tidySingleCellExperiment -R && C:\Users\biocbuild\bbs-3.13-bioc\R\bin\R.exe CMD build --keep-empty-dirs --no-resave-data tidySingleCellExperiment StartedAt: 2021-10-14 18:46:49 -0400 (Thu, 14 Oct 2021) EndedAt: 2021-10-14 18:48:28 -0400 (Thu, 14 Oct 2021) EllapsedTime: 99.0 seconds RetCode: 0 Status: OK PackageFile: tidySingleCellExperiment_1.2.1.tar.gz PackageFileSize: 961.2 KiB