Package: tidySingleCellExperiment Version: 1.2.1 Command: C:\cygwin\bin\curl.exe -O http://155.52.207.165/BBS/3.13/bioc/src/contrib/tidySingleCellExperiment_1.2.1.tar.gz && rm -rf tidySingleCellExperiment.buildbin-libdir && mkdir tidySingleCellExperiment.buildbin-libdir && C:\Users\biocbuild\bbs-3.13-bioc\R\bin\R.exe CMD INSTALL --merge-multiarch --build --library=tidySingleCellExperiment.buildbin-libdir tidySingleCellExperiment_1.2.1.tar.gz && C:\Users\biocbuild\bbs-3.13-bioc\R\bin\R.exe CMD INSTALL tidySingleCellExperiment_1.2.1.zip && rm tidySingleCellExperiment_1.2.1.tar.gz tidySingleCellExperiment_1.2.1.zip StartedAt: 2021-10-14 09:35:30 -0400 (Thu, 14 Oct 2021) EndedAt: 2021-10-14 09:36:51 -0400 (Thu, 14 Oct 2021) EllapsedTime: 80.7 seconds RetCode: 0 Status: OK