Package: tofsims Version: 1.20.0 Command: /home/biocbuild/bbs-3.13-bioc/R/bin/R CMD build --keep-empty-dirs --no-resave-data tofsims StartedAt: 2021-10-14 08:35:41 -0400 (Thu, 14 Oct 2021) EndedAt: 2021-10-14 08:37:04 -0400 (Thu, 14 Oct 2021) EllapsedTime: 82.8 seconds RetCode: 0 Status: OK PackageFile: tofsims_1.20.0.tar.gz PackageFileSize: 341.3 KiB