Package: tomoda Version: 1.2.0 Command: rm -rf tomoda.buildbin-libdir && mkdir tomoda.buildbin-libdir && /Users/biocbuild/BBS/utils/build-universal.sh tomoda_1.2.0.tar.gz /Library/Frameworks/R.framework/Versions/Current/Resources/bin/R tomoda.buildbin-libdir StartedAt: 2021-10-15 04:15:16 -0400 (Fri, 15 Oct 2021) EndedAt: 2021-10-15 04:16:24 -0400 (Fri, 15 Oct 2021) EllapsedTime: 68.8 seconds RetCode: 0 Status: OK PackageFile: tomoda_1.2.0.tgz PackageFileSize: 2.615 MiB