Package: tomoda Version: 1.2.0 Command: /Library/Frameworks/R.framework/Versions/Current/Resources/bin/R CMD check --install=check:tomoda.install-out.txt --library=/Library/Frameworks/R.framework/Versions/Current/Resources/library --no-vignettes --timings tomoda_1.2.0.tar.gz StartedAt: 2021-10-15 00:48:15 -0400 (Fri, 15 Oct 2021) EndedAt: 2021-10-15 00:56:24 -0400 (Fri, 15 Oct 2021) EllapsedTime: 488.5 seconds RetCode: 0 Status: OK CheckDir: tomoda.Rcheck Warnings: 0