Package: tomoda Version: 1.2.0 Command: /Library/Frameworks/R.framework/Versions/Current/Resources/bin/R CMD INSTALL tomoda StartedAt: 2021-10-14 09:07:22 -0400 (Thu, 14 Oct 2021) EndedAt: 2021-10-14 09:08:01 -0400 (Thu, 14 Oct 2021) EllapsedTime: 39.5 seconds RetCode: 0 Status: OK