############################################################################## ############################################################################## ### ### Running command: ### ### C:\Users\biocbuild\bbs-3.13-bioc\R\bin\R.exe CMD check --force-multiarch --install=check:tradeSeq.install-out.txt --library=C:\Users\biocbuild\bbs-3.13-bioc\R\library --no-vignettes --timings tradeSeq_1.6.0.tar.gz ### ############################################################################## ############################################################################## * using log directory 'C:/Users/biocbuild/bbs-3.13-bioc/meat/tradeSeq.Rcheck' * using R version 4.1.1 (2021-08-10) * using platform: x86_64-w64-mingw32 (64-bit) * using session charset: ISO8859-1 * using option '--no-vignettes' * checking for file 'tradeSeq/DESCRIPTION' ... OK * checking extension type ... Package * this is package 'tradeSeq' version '1.6.0' * package encoding: UTF-8 * checking package namespace information ... OK * checking package dependencies ... OK * checking if this is a source package ... OK * checking if there is a namespace ... OK * checking for hidden files and directories ... OK * checking for portable file names ... OK * checking whether package 'tradeSeq' can be installed ... OK * checking installed package size ... OK * checking package directory ... OK * checking 'build' directory ... OK * checking DESCRIPTION meta-information ... OK * checking top-level files ... OK * checking for left-over files ... OK * checking index information ... OK * checking package subdirectories ... OK * checking R files for non-ASCII characters ... OK * checking R files for syntax errors ... OK * loading checks for arch 'i386' ** checking whether the package can be loaded ... OK ** checking whether the package can be loaded with stated dependencies ... OK ** checking whether the package can be unloaded cleanly ... OK ** checking whether the namespace can be loaded with stated dependencies ... OK ** checking whether the namespace can be unloaded cleanly ... OK * loading checks for arch 'x64' ** checking whether the package can be loaded ... OK ** checking whether the package can be loaded with stated dependencies ... OK ** checking whether the package can be unloaded cleanly ... OK ** checking whether the namespace can be loaded with stated dependencies ... OK ** checking whether the namespace can be unloaded cleanly ... OK * checking dependencies in R code ... OK * checking S3 generic/method consistency ... OK * checking replacement functions ... OK * checking foreign function calls ... OK * checking R code for possible problems ... NOTE .earlyDETest: no visible binding for global variable 'X1' .earlyDETest: no visible binding for global variable 'X2' .findKnots: no visible binding for global variable 't1' .findKnots: no visible binding for global variable 'l1' .plotGeneCount: no visible binding for global variable 'dim1' .plotGeneCount: no visible binding for global variable 'dim2' .plotSmoothers: no visible binding for global variable 'time' .plotSmoothers: no visible binding for global variable 'gene_count' .plotSmoothers: no visible binding for global variable 'lineage' .plotSmoothers_conditions: no visible binding for global variable 'time' .plotSmoothers_conditions: no visible binding for global variable 'gene_count' .plotSmoothers_conditions: no visible binding for global variable 'lineage' .plotSmoothers_conditions: no visible binding for global variable 'pCol' .plotSmoothers_sce: no visible binding for global variable 'time' .plotSmoothers_sce: no visible binding for global variable 'gene_count' .plotSmoothers_sce: no visible binding for global variable 'lineage' .plotSmoothers_sce: no visible binding for global variable 'pCol' extract_monocle_info: no visible binding for global variable '.' Undefined global functions or variables: . X1 X2 dim1 dim2 gene_count l1 lineage pCol t1 time Consider adding importFrom("stats", "time") to your NAMESPACE file. * checking Rd files ... OK * checking Rd metadata ... OK * checking Rd cross-references ... OK * checking for missing documentation entries ... OK * checking for code/documentation mismatches ... OK * checking Rd \usage sections ... OK * checking Rd contents ... OK * checking for unstated dependencies in examples ... OK * checking contents of 'data' directory ... OK * checking data for non-ASCII characters ... OK * checking data for ASCII and uncompressed saves ... OK * checking files in 'vignettes' ... OK * checking examples ... ** running examples for arch 'i386' ... OK Examples with CPU (user + system) or elapsed time > 5s user system elapsed conditionTest 111.66 3.07 126.30 associationTest 58.29 0.80 59.08 fitGAM 57.70 0.19 58.06 plotGeneCount 54.46 0.28 54.87 plotSmoothers 51.98 0.16 52.14 evaluateK 27.97 0.10 28.66 plot_evalutateK_results 21.74 0.08 21.81 ** running examples for arch 'x64' ... OK Examples with CPU (user + system) or elapsed time > 5s user system elapsed conditionTest 103.56 3.54 107.13 associationTest 58.21 0.21 58.43 plotGeneCount 52.45 0.13 52.69 plotSmoothers 50.03 0.16 50.20 fitGAM 48.53 0.12 48.65 evaluateK 22.57 0.13 22.69 plot_evalutateK_results 21.80 0.11 21.91 * checking for unstated dependencies in 'tests' ... OK * checking tests ... ** running tests for arch 'i386' ... Running 'testthat.R' OK ** running tests for arch 'x64' ... Running 'testthat.R'