Package: transcriptR Version: 1.20.0 Command: /Library/Frameworks/R.framework/Versions/Current/Resources/bin/R CMD check --install=check:transcriptR.install-out.txt --library=/Library/Frameworks/R.framework/Versions/Current/Resources/library --no-vignettes --timings transcriptR_1.20.0.tar.gz StartedAt: 2021-10-15 00:52:59 -0400 (Fri, 15 Oct 2021) EndedAt: 2021-10-15 01:01:32 -0400 (Fri, 15 Oct 2021) EllapsedTime: 513.0 seconds RetCode: 0 Status: OK CheckDir: transcriptR.Rcheck Warnings: 0