Package: transcriptR Version: 1.20.0 Command: /Library/Frameworks/R.framework/Versions/Current/Resources/bin/R CMD INSTALL transcriptR StartedAt: 2021-10-14 10:04:07 -0400 (Thu, 14 Oct 2021) EndedAt: 2021-10-14 10:04:57 -0400 (Thu, 14 Oct 2021) EllapsedTime: 49.6 seconds RetCode: 0 Status: OK