Package: transcriptR Version: 1.20.0 Command: rm -rf transcriptR.buildbin-libdir && mkdir transcriptR.buildbin-libdir && C:\Users\biocbuild\bbs-3.13-bioc\R\bin\R.exe CMD INSTALL --merge-multiarch --build --library=transcriptR.buildbin-libdir transcriptR_1.20.0.tar.gz StartedAt: 2021-10-15 12:15:29 -0400 (Fri, 15 Oct 2021) EndedAt: 2021-10-15 12:16:53 -0400 (Fri, 15 Oct 2021) EllapsedTime: 83.8 seconds RetCode: 0 Status: OK PackageFile: transcriptR_1.20.0.zip PackageFileSize: 3.226 MiB