git_url: https://git.bioconductor.org/packages/transcriptogramer git_branch: RELEASE_3_13 git_last_commit: 33f0ca5 git_last_commit_date: 2021-05-19 12:31:57 -0400 (Wed, 19 May 2021) Package: transcriptogramer Version: 1.14.0 Maintainer: Diego Morais MaintainerEmail: vinx at ufrn.edu.br