Package: transcriptogramer Version: 1.14.0 Command: /home/biocbuild/bbs-3.13-bioc/R/bin/R CMD INSTALL transcriptogramer StartedAt: 2021-10-14 06:17:14 -0400 (Thu, 14 Oct 2021) EndedAt: 2021-10-14 06:17:40 -0400 (Thu, 14 Oct 2021) EllapsedTime: 25.1 seconds RetCode: 0 Status: OK