Package: transcriptogramer Version: 1.14.0 Command: chmod a+r transcriptogramer -R && C:\Users\biocbuild\bbs-3.13-bioc\R\bin\R.exe CMD build --keep-empty-dirs --no-resave-data transcriptogramer StartedAt: 2021-10-14 18:52:10 -0400 (Thu, 14 Oct 2021) EndedAt: 2021-10-14 19:08:09 -0400 (Thu, 14 Oct 2021) EllapsedTime: 958.3 seconds RetCode: 0 Status: OK PackageFile: transcriptogramer_1.14.0.tar.gz PackageFileSize: 3.629 MiB