Package: transcriptogramer Version: 1.14.0 Command: C:\Users\biocbuild\bbs-3.13-bioc\R\bin\R.exe CMD check --force-multiarch --install=check:transcriptogramer.install-out.txt --library=C:\Users\biocbuild\bbs-3.13-bioc\R\library --no-vignettes --timings transcriptogramer_1.14.0.tar.gz StartedAt: 2021-10-15 06:51:17 -0400 (Fri, 15 Oct 2021) EndedAt: 2021-10-15 06:58:31 -0400 (Fri, 15 Oct 2021) EllapsedTime: 433.3 seconds RetCode: 0 Status: OK CheckDir: transcriptogramer.Rcheck Warnings: 0