Package: transcriptogramer Version: 1.14.0 Command: C:\cygwin\bin\curl.exe -O http://155.52.207.165/BBS/3.13/bioc/src/contrib/transcriptogramer_1.14.0.tar.gz && rm -rf transcriptogramer.buildbin-libdir && mkdir transcriptogramer.buildbin-libdir && C:\Users\biocbuild\bbs-3.13-bioc\R\bin\R.exe CMD INSTALL --merge-multiarch --build --library=transcriptogramer.buildbin-libdir transcriptogramer_1.14.0.tar.gz && C:\Users\biocbuild\bbs-3.13-bioc\R\bin\R.exe CMD INSTALL transcriptogramer_1.14.0.zip && rm transcriptogramer_1.14.0.tar.gz transcriptogramer_1.14.0.zip StartedAt: 2021-10-14 09:30:46 -0400 (Thu, 14 Oct 2021) EndedAt: 2021-10-14 09:31:35 -0400 (Thu, 14 Oct 2021) EllapsedTime: 49.6 seconds RetCode: 0 Status: OK